BEGIN:VCALENDAR
VERSION:2.0
PRODID:-//wp-events-plugin.com//7.2.3.1//EN
BEGIN:VEVENT
UID:148@chanakyauniversity.edu.in
DTSTART:20260305T090000Z
DTEND:20260305T110000Z
DTSTAMP:20260304T142119Z
URL:https://chanakyauniversity.edu.in/events/workshop-on-design-systems-th
 inking-for-public-policy-governance-decoding-wicked-problems-in-india/
SUMMARY:Workshop on Design & Systems Thinking for Public Policy Governance:
 Decoding Wicked Problems in India
DESCRIPTION:The Workshop on “Design &amp\; Systems Thinking for Public
 Policy Governance: Decoding Wicked Problems in India” will be held
 tomorrow\, 5 March 2026\, from 2:30 PM to 4:30 PM.\n\nThe session will be
 conducted by Ms. Nupur Gurjar\, Senior Design Strategist\, Harvard
 University (MDE).\n\nVenue: 1st Floor\, Board Room – Sahyadri\nChanakya
 University
ATTACH;FMTTYPE=image/jpeg:https://chanakyauniversity.edu.in/wp-content/upl
 oads/2026/03/WhatsApp-Image-2026-03-04-at-4.55.56-PM.jpg
CATEGORIES:CU events,School of Law
END:VEVENT
END:VCALENDAR