BEGIN:VCALENDAR
VERSION:2.0
PRODID:-//wp-events-plugin.com//7.2.3.1//EN
BEGIN:VEVENT
UID:136@chanakyauniversity.edu.in
DTSTART:20260223T051500Z
DTEND:20260223T103000Z
DTSTAMP:20260304T130412Z
URL:https://chanakyauniversity.edu.in/events/workshop-on-ai-driven-on-fiel
 d-soil-health-assessment-and-advisory/
SUMMARY:Workshop on AI-Driven On-Field Soil Health Assessment and Advisory
DESCRIPTION:A One-Day Workshop on “AI-Driven On-Field Soil Health
 Assessment and Advisory” was successfully conducted at Chanakya
 University\, Centre for Sustainability on 23rd February 2026.\n\nThe
 session was delivered by Dr. Madhukant Patel\, Former ISRO Scientist and
 Founder of Revesoils Private Limited. The workshop focused on understanding
 AI-driven soil health measurements and their practical applications in
 real-time field conditions. Participants were introduced to advanced tools
 and techniques used for on-field soil assessment\, data-driven advisory
 systems\, and precision agriculture approaches.\n\nA hands-on demonstration
 was conducted during the workshop\, enabling participants to directly
 engage with AI-based soil measurement tools and interpret soil health
 indicators for informed decision-making. The interactive session provided
 practical exposure to integrating artificial intelligence in sustainable
 soil management practices.\n\nThe workshop served as a valuable platform
 for bridging technology and agriculture\, reinforcing the importance of
 AI-enabled solutions in enhancing soil productivity and
 sustainability.\n\n[gallery link="file"
 ids="16817\,16812\,16813\,16814\,16815\,16816"]\n\n&nbsp\;
ATTACH;FMTTYPE=image/jpeg:https://chanakyauniversity.edu.in/wp-content/upl
 oads/2026/02/image8-2.png
CATEGORIES:Centre for Sustainability
END:VEVENT
END:VCALENDAR