BEGIN:VCALENDAR
VERSION:2.0
PRODID:-//wp-events-plugin.com//7.2.3.1//EN
BEGIN:VEVENT
UID:98@chanakyauniversity.edu.in
DTSTART;VALUE=DATE:20230930
DTEND;VALUE=DATE:20231001
DTSTAMP:20250818T090649Z
URL:https://chanakyauniversity.edu.in/events/talk-by-shri-nanda-kishor-and
 -sri-sandeep-balakrishna/
SUMMARY:Talk by Shri Nanda Kishor and Sri Sandeep Balakrishna
DESCRIPTION:September 30\, 2023\, (Offline)\n\nOn Saturday\, September 30\,
 2023\, Chanakya University hosted an enriching interaction for its students
 with esteemed guests\, Dr. Nanda Kishor and Sri Sandeep Balakrishna. The
 event commenced with introductions by Ms. Gargi and Dr. Vinayak Rajat
 Bhat\, setting the stage for a thought-provoking dialogue. The
 interaction\, marked by its insightfulness and engagement\, began with the
 speakers gauging the students' backgrounds. Sri Sandeep initiated a
 discussion on the intrinsic elements of our culture\, sparking diverse
 responses from the audience. Subsequently\, Balakrishna delved into topics
 such as Dharma\, Shastra\, and the 4 purusharthas of life. Dr. Nanda
 continued the discourse with a captivating story\, touching upon the
 saptanga theory\, upayas\, Shadgunya theory\, and the versatility of
 Arthashastra and other texts. The audience\, captivated by the discussion\,
 attentively absorbed insights into contemporary world politics. The session
 concluded with both guests patiently addressing a myriad of questions from
 the students. Smt. Sai Swaroopa Iyer expressed gratitude in the Vote of
 Thanks\, acknowledging the voracity of the speakers and the profound
 insights gained during the interactive session.
ATTACH;FMTTYPE=image/jpeg:https://chanakyauniversity.edu.in/wp-content/upl
 oads/2026/02/default-img.jpg
CATEGORIES:Indian Knowledge Systems
END:VEVENT
END:VCALENDAR