BEGIN:VCALENDAR
VERSION:2.0
PRODID:-//wp-events-plugin.com//7.2.3.1//EN
BEGIN:VEVENT
UID:105@chanakyauniversity.edu.in
DTSTART:20230109T183000Z
DTEND:20230109T183000Z
DTSTAMP:20250818T093133Z
URL:https://chanakyauniversity.edu.in/events/talk-by-prof-sampadananda-mis
 hra-on-the-relevance-of-indian-knowledge-tradition-in-the-contemporary-wor
 ld/
SUMMARY:Talk by Prof. Sampadananda Mishra on ‘The Relevance of  Indian
 Knowledge Tradition in the Contemporary World’
DESCRIPTION:10th January\, 2023. (Offline)\n\nThe Centre for Indian
 Knowledge Systems\, Chanakya University\, organised a talk on “The
 Relevance of Indian Knowledge Tradition in the Contemporary World” by Dr.
 Sampadananda Mishra\, Professor at the Rashtram School of Leadership\,
 Rishihood University\, Sonipat. The talk was part of an orientation program
 arranged for the PG students who have joined Chanakya University in the
 present academic year 2023\, organised on 10th January\, 2023. Dr. Vinayak
 Rajat Bhat\, Associate Professor\, Centre for Indian Knowledge Systems\,
 Chanakya University introduced the resource person to the gathered students
 and presented a brief preamble about the topic of the talk. Dr.
 Sampadananda Mishra conducted an interactive session with the PG students
 of the university. He signified the traditional thoughts given by the Rishi
 Parampara that\, everything in existence is a form of divinity\, by
 refining\, evolving\, and transforming one could attain the perfectness of
 divinity. He affirms that the core value of education should be the
 knowledge of One-self (Atma Jnana). He concluded his talk by giving
 knowledge of three tasks suggested by Sri Aurobindo which transform laymen
 into the new age global leaders with the highest vision. Dr. Vinayachandra
 Banavathy\, elucidated the significance of illuminated insights of Dr.
 Sampadananda Mishra\, and mentioned a vote of thanks toward the resource
 person followed with felicitation.
ATTACH;FMTTYPE=image/jpeg:https://chanakyauniversity.edu.in/wp-content/upl
 oads/2026/02/default-img.jpg
CATEGORIES:Indian Knowledge Systems
END:VEVENT
END:VCALENDAR