BEGIN:VCALENDAR
VERSION:2.0
PRODID:-//wp-events-plugin.com//7.2.3.1//EN
BEGIN:VEVENT
UID:63@chanakyauniversity.edu.in
DTSTART:20241218T183000Z
DTEND:20241218T183000Z
DTSTAMP:20241219T165912Z
URL:https://chanakyauniversity.edu.in/events/strategic-thought-on-responsi
 ble-cyber-behavior-in-india-a-domestic-and-external-assessment/
SUMMARY:Strategic Thought on Responsible Cyber Behavior in India: A
 Domestic and External Assessment
DESCRIPTION:
ATTACH;FMTTYPE=image/jpeg:https://chanakyauniversity.edu.in/wp-content/upl
 oads/2024/12/Anushka-Saxena.jpg
CATEGORIES:Research
END:VEVENT
END:VCALENDAR