BEGIN:VCALENDAR
VERSION:2.0
PRODID:-//wp-events-plugin.com//7.2.3.1//EN
BEGIN:VEVENT
UID:116@chanakyauniversity.edu.in
DTSTART;VALUE=DATE:20250131
DTEND;VALUE=DATE:20250201
DTSTAMP:20250821T013916Z
URL:https://chanakyauniversity.edu.in/events/round-table-on-technology-int
 erventions-for-climate-change-mitigation/
SUMMARY:Round Table on Technology Interventions for Climate Change
 Mitigation
DESCRIPTION:Key Insights:\n\n 	Prof. Subbanna Ayyappan called for scaling
 innovations via policy mandates\n 	Dr. P.G. Diwakar emphasized AI\, IoT\,
 and predictive modelling for environmental planning\n 	Prof. Chetan Singai
 advocated for fragmented\, crop-specific farming approaches over
 monocultures\n 	Dr. V.R. Hegde promoted real-time tracking tools like
 Doppler radar and satellite sensors\n\nOutcomes:\n\n 	Creation of
 district-level technology action plans\n 	Use of geospatial and modelling
 tools for climate-responsive infrastructure\n 	A status paper is under
 development to shape state-level implementation frameworks\n\n[gallery
 link="file" size="medium" ids="13181\,13182"]
ATTACH;FMTTYPE=image/jpeg:https://chanakyauniversity.edu.in/wp-content/upl
 oads/2025/08/Picture6.png
CATEGORIES:Centre for Sustainability
END:VEVENT
END:VCALENDAR