BEGIN:VCALENDAR
VERSION:2.0
PRODID:-//wp-events-plugin.com//7.2.3.1//EN
BEGIN:VEVENT
UID:144@chanakyauniversity.edu.in
DTSTART:20260109T183000Z
DTEND:20260109T183000Z
DTSTAMP:20260226T062002Z
URL:https://chanakyauniversity.edu.in/events/participation-in-9th-nitte-in
 ternational-conference-and-doctoral-conclave/
SUMMARY:Participation in 9th Nitte International Conference and Doctoral
 Conclave
DESCRIPTION:Our centre participated in the 9th Nitte International
 Conference and Doctoral Conclave — Sustainability Reimagined:
 Innovations\, Impact\, and Inclusive Futures\, organized by Justice KS
 Hegde Institute of Management\, Nitte\, on 9–10 January 2026.\n\nOur
 doctoral student Prakul T V presented a paper titled “Water bodies
 as strategic tools for urban heat island mitigation in
 Bengaluru.\n\n[gallery link="file" columns="2"
 ids="16726\,16727"]\n\n&nbsp\;
ATTACH;FMTTYPE=image/jpeg:https://chanakyauniversity.edu.in/wp-content/upl
 oads/2026/02/image6.png
CATEGORIES:Centre for Sustainability
END:VEVENT
END:VCALENDAR