BEGIN:VCALENDAR
VERSION:2.0
PRODID:-//wp-events-plugin.com//7.2.3.1//EN
BEGIN:VEVENT
UID:90@chanakyauniversity.edu.in
DTSTART;VALUE=DATE:20240215
DTEND;VALUE=DATE:20240216
DTSTAMP:20250818T085529Z
URL:https://chanakyauniversity.edu.in/events/panel-discussion-on-legacy-of
 -gandhi/
SUMMARY:Panel Discussion on ‘Legacy of Gandhi’
DESCRIPTION:15th February 2024\n\nThe panel discussion delved into the
 multifaceted legacy of Mahatma Gandhi\, a towering figure in India's
 history\, and examine contrasting perspectives on his ideology and actions.
 Dr. Nandakishor\, a renowned Gandhian scholar advocating for Gandhi's
 principles\, and Dr. Koenraad Elst\, a prominent critic of Gandhi\, offered
 insights from opposing ends of the ideological spectrum. Through this
 discourse\, students got to experience Gandhi's impact comprehensively\,
 which allowed them to evaluate his contributions to history and society
 critically. The session also shed light on certain decisions of Gandhi’s
 that had long-standing repercussions. The discussion was well-attended by
 students\, research scholars and faculty alike.
ATTACH;FMTTYPE=image/jpeg:https://chanakyauniversity.edu.in/wp-content/upl
 oads/2026/02/default-img.jpg
CATEGORIES:Indian Knowledge Systems
END:VEVENT
END:VCALENDAR