BEGIN:VCALENDAR
VERSION:2.0
PRODID:-//wp-events-plugin.com//7.2.3.1//EN
BEGIN:VEVENT
UID:76@chanakyauniversity.edu.in
DTSTART;VALUE=DATE:20250605
DTEND;VALUE=DATE:20250606
DTSTAMP:20250605T075555Z
URL:https://chanakyauniversity.edu.in/events/national-conference-on-indias
 -roadmap-for-sustainability-soil-water-agriculture-and-indigenous-wisdom/
SUMMARY:National Conference on “India’s Roadmap for Sustainability:
 Soil\, Water\, Agriculture\, and Indigenous Wisdom”
DESCRIPTION:Click here to download the brochure.
ATTACH;FMTTYPE=image/jpeg:https://chanakyauniversity.edu.in/wp-content/upl
 oads/2025/05/SAJEEV-Updated.jpg
CATEGORIES:CU events
END:VEVENT
END:VCALENDAR