BEGIN:VCALENDAR
VERSION:2.0
PRODID:-//wp-events-plugin.com//7.2.3.1//EN
BEGIN:VEVENT
UID:118@chanakyauniversity.edu.in
DTSTART;VALUE=DATE:20250307
DTEND;VALUE=DATE:20250308
DTSTAMP:20250821T014258Z
URL:https://chanakyauniversity.edu.in/events/methane-emissions-and-strateg
 ies-for-mitigation/
SUMMARY:Methane Emissions and Strategies for Mitigation
DESCRIPTION:Speaker\n\nDr. Sayantan Sahu\,\nCenter for Global
 Sustainability
ATTACH;FMTTYPE=image/jpeg:https://chanakyauniversity.edu.in/wp-content/upl
 oads/2026/02/default-img.jpg
CATEGORIES:Centre for Sustainability
END:VEVENT
END:VCALENDAR