BEGIN:VCALENDAR
VERSION:2.0
PRODID:-//wp-events-plugin.com//7.2.3.1//EN
BEGIN:VEVENT
UID:114@chanakyauniversity.edu.in
DTSTART;VALUE=DATE:20250217
DTEND;VALUE=DATE:20250219
DTSTAMP:20250821T020228Z
URL:https://chanakyauniversity.edu.in/events/international-symposium-on-cl
 imate-change-mitigation-adaptation-and-resilience-with-measures-to-minimiz
 e-losses-by-appropriate-infrastructure/
SUMMARY:International Symposium on Climate Change
DESCRIPTION:International Symposium on Climate Change Mitigation\,
 Adaptation\, and Resilience with Measures to Minimize Losses by Appropriate
 Infrastructure\n\nKey Highlights:\n\n 	Dr. T.V. Ramachandra (IISc):
 Introduced spatial tools (BUiS) to assess ecological loss and shape
 land-use planning.\n 	Dr. Nicoli Filatov: Discussed adaptive infrastructure
 solutions for water security.\n 	Dr. Anasuya Gangopadhyay: Presented the
 SAFARI model for net-zero transition.\n 	Dr. Sheshagiri Rao &amp\; Dr.
 Pavithra Nayak highlighted grassroots strategies and climate-smart
 farming.\n\nTakeaways :\n\n 	Spatial tools must inform district-level
 resilience planning\n 	Real-time borewell monitoring and biomass-based soil
 strategies are critical\n 	Integrated models like SAFARI align energy\,
 policy\, and sustainability goals\n\n
ATTACH;FMTTYPE=image/jpeg:https://chanakyauniversity.edu.in/wp-content/upl
 oads/2025/08/Picture3.png
CATEGORIES:Centre for Sustainability
END:VEVENT
END:VCALENDAR