BEGIN:VCALENDAR
VERSION:2.0
PRODID:-//wp-events-plugin.com//7.2.3.1//EN
BEGIN:VEVENT
UID:6@chanakyauniversity.edu.in
DTSTART:20240321T093000Z
DTEND:20240322T173000Z
DTSTAMP:20240315T100311Z
URL:https://chanakyauniversity.edu.in/events/international-conference-on-t
 emples-management-historical-functional-and-futuristic-perspectives/
SUMMARY:International Conference on Temples Management: Historical\,
 Functional and Futuristic Perspectives
DESCRIPTION:Temples are nerve centres that not only provide spiritual
 support but have also served as hubs for knowledge generation and thriving
 local economies. The management of temples has varied between local
 communities\, royal families\, other patrons including the State\, creating
 various models that ensure the upkeep of the temples and regularity of
 functions. There are also temples that have collapsed due to lack of a such
 structural mechanisms. Have temples retreated from being dynamic
 socio-economic-spiritual- cultural hubs of action to only places of
 spiritual and religious activity? Recent decades have witnessed a concerted
 effort to revive the dynamics of temples as providers of harmony among
 communities\, and this unique event attempts to showcase the same!
ATTACH;FMTTYPE=image/jpeg:https://chanakyauniversity.edu.in/wp-content/upl
 oads/2023/03/CU-TM-Conf-24-Poster.jpg
END:VEVENT
END:VCALENDAR