BEGIN:VCALENDAR
VERSION:2.0
PRODID:-//wp-events-plugin.com//7.2.3.1//EN
BEGIN:VEVENT
UID:132@chanakyauniversity.edu.in
DTSTART;VALUE=DATE:20260219
DTEND;VALUE=DATE:20260221
DTSTAMP:20260211T183257Z
URL:https://chanakyauniversity.edu.in/events/international-conference-on-c
 limate-adaptation-and-resilience-for-a-sustainable-planet/
SUMMARY:International Conference on Climate Adaptation and Resilience for a
 Sustainable Planet
DESCRIPTION:
ATTACH;FMTTYPE=image/jpeg:https://chanakyauniversity.edu.in/wp-content/upl
 oads/2026/02/website-events-3.jpg
CATEGORIES:CU events,Centre for Sustainability
END:VEVENT
END:VCALENDAR