BEGIN:VCALENDAR
VERSION:2.0
PRODID:-//wp-events-plugin.com//7.2.3.1//EN
BEGIN:VEVENT
UID:73@chanakyauniversity.edu.in
DTSTART:20250602T113000Z
DTEND:20250602T113000Z
DTSTAMP:20250526T130723Z
URL:https://chanakyauniversity.edu.in/events/insights-from-eminent-minds-i
 nspiration-for-generations-distinguished-lecture-series-chanakya-universit
 y/
SUMMARY:Insights from Eminent Minds\, Inspiration for Generations
 Distinguished Lecture Series - Chanakya University
DESCRIPTION:Chanakya University’s Distinguished Lecture Series (DLS) is a
 prestigious public talk platform featuring eminent global thought leaders
 who shape ideas\, policies\, and future directions.\n\nOver the years\,
 we’ve had the privilege of hosting intellectual luminaries including: Dr.
 Bibek Debroy\, Prof. Manjul Bhargava\, Prof. Harsh V. Pant\, Prof. John
 Louis Arcand\, Prof. Nikolai G. Wenzel\, and more.\n\nWe are now delighted
 to announce the next session in the series:\n\nFeaturing: Sri Sanjeev
 Sanyal\nRenowned Economist &amp\; Member\, Prime Minister’s Economic
 Advisory Council\nDate: Monday\, 2nd June 2025\nTime: 5:00 PM
 onwards\nVenue: Yuva Patha\, Yuvaka Sangha\, Jayanagar\, Bengaluru\n\nJoin
 us for an evening of deep insights\, bold ideas\, and impactful
 dialogue.\nBlock your calendar!\n\nLink for
 Registration:\nhttps://forms.gle/tDypC2pxRpuVSKiaA\n\n
ATTACH;FMTTYPE=image/jpeg:https://chanakyauniversity.edu.in/wp-content/upl
 oads/2025/05/CU-DLS-SANYAL-SM.jpg
CATEGORIES:CU events
END:VEVENT
END:VCALENDAR