BEGIN:VCALENDAR
VERSION:2.0
PRODID:-//wp-events-plugin.com//7.2.3.1//EN
BEGIN:VEVENT
UID:103@chanakyauniversity.edu.in
DTSTART;VALUE=DATE:20230425
DTEND;VALUE=DATE:20230426
DTSTAMP:20250818T092926Z
URL:https://chanakyauniversity.edu.in/events/indian-philosophers-day-sri-s
 ankaracarya-jayanti-and-ramanujacarya-jayanti/
SUMMARY:Indian Philosophers’ Day (Śri Śankarācārya Jayanti and
 Rāmānujācārya Jayanti)
DESCRIPTION:April 25\, 2023\n\nVaiśākha Śuddha Paṅcami\, marking the
 birth tithi of eminent figures in Indian Philosophy\, Śankarācārya and
 Rāmānujācārya\, was commemorated by the Centre for Indian Knowledge
 System at Chanakya University through various events. On April 25\, 2023\,
 a poster presentation commenced at 10:00 am\, enlightening both students
 and university staff with lesser-known information about
 Śaṅkarācārya\, Rāmānujācārya\, and other Indian philosophers. An
 online lecture followed from 3:30 to 5:00 pm\, featuring Dr. K Aravind
 Rao\, IPS\, who retired as Director General of Police\, United Andhra
 Pradesh state. Dr. Rao delivered an insightful lecture on the
 Gītā-Bhāṣya of Śaṅkara\, comparing it with the Upaniṣad Bhāṣya
 and exploring the integration of Upaniṣadic principles in the
 Bhagavadgītā. Dr. Vinayachandra Banavathy\, the Director of the Centre\,
 further elaborated on Śaṅkarācārya's works\, particularly his
 Bhāṣyas on Brahmasūtras\, Upaniṣads\, and Bhagavadgīta. The session
 concluded with a vote of thanks from Dr. Vinayak Rajat Bhat\, Associate
 Professor at the Centre for Indian Knowledge System\, Chanakya University.
ATTACH;FMTTYPE=image/jpeg:https://chanakyauniversity.edu.in/wp-content/upl
 oads/2026/02/default-img.jpg
CATEGORIES:Indian Knowledge Systems
END:VEVENT
END:VCALENDAR