BEGIN:VCALENDAR
VERSION:2.0
PRODID:-//wp-events-plugin.com//7.2.3.1//EN
BEGIN:VEVENT
UID:92@chanakyauniversity.edu.in
DTSTART;VALUE=DATE:20240125
DTEND;VALUE=DATE:20240126
DTSTAMP:20250818T085750Z
URL:https://chanakyauniversity.edu.in/events/iks-faculty-orientation-progr
 amme/
SUMMARY:IKS Faculty Orientation Programme
DESCRIPTION:25th January 2024\n\nThe program held on 25th January 2024 was
 designed to familiarize all faculty\, researchers\, and other staff members
 with a clearer understanding of IKS. The programme covered important topics
 like what\, why\, and\, how of IKS.
ATTACH;FMTTYPE=image/jpeg:https://chanakyauniversity.edu.in/wp-content/upl
 oads/2026/02/default-img.jpg
CATEGORIES:Indian Knowledge Systems
END:VEVENT
END:VCALENDAR