BEGIN:VCALENDAR
VERSION:2.0
PRODID:-//wp-events-plugin.com//7.2.3.1//EN
BEGIN:VEVENT
UID:151@chanakyauniversity.edu.in
DTSTART:20260424T080000Z
DTEND:20260424T093000Z
DTSTAMP:20260423T112358Z
URL:https://chanakyauniversity.edu.in/events/higher-education-opportunitie
 s-pathways-to-your-future/
SUMMARY:Higher Education Opportunities: Pathways to Your Future
DESCRIPTION:This session is designed to guide students and aspiring
 researchers on exploring higher education opportunities in biosciences and
 related fields. It brings together experts from academia and industry to
 share insights on global study options\, research pathways\, and career
 prospects. Participants will gain practical advice on navigating academic
 journeys\, international education\, and emerging opportunities in life
 sciences.
ATTACH;FMTTYPE=image/jpeg:https://chanakyauniversity.edu.in/wp-content/upl
 oads/2026/04/Higher-Education-Oppertunities_abhishek.png
CATEGORIES:Bioscience
END:VEVENT
END:VCALENDAR