BEGIN:VCALENDAR
VERSION:2.0
PRODID:-//wp-events-plugin.com//7.2.3.1//EN
BEGIN:VEVENT
UID:139@chanakyauniversity.edu.in
DTSTART;VALUE=DATE:20260213
DTEND;VALUE=DATE:20260214
DTSTAMP:20260220T100058Z
URL:https://chanakyauniversity.edu.in/events/guest-lecture-on-sustainabili
 ty/
SUMMARY:Guest Lecture on Sustainability
DESCRIPTION:We were honored to welcome Dr Pravin Jagdale\, Carbon Scientist
 and Nanotechnologist with over 20 years of experience in waste-to-value
 solutions. He visited us and delivered an engaging lecture on environmental
 sustainability\, focusing on carbon dioxide removal (CDR)\, bio-energy\,
 and carbon sinks as key pathways toward a resilient and circular
 economy.\nHis talk highlighted how scientific innovations can be translated
 into practical\, scalable solutions with meaningful environmental and
 economic impact.\n\n[gallery size="large" columns="2" link="file"
 ids="16497\,16498"]
ATTACH;FMTTYPE=image/jpeg:https://chanakyauniversity.edu.in/wp-content/upl
 oads/2026/02/1.jpg
CATEGORIES:Centre for Sustainability
END:VEVENT
END:VCALENDAR