BEGIN:VCALENDAR
VERSION:2.0
PRODID:-//wp-events-plugin.com//7.2.3.1//EN
BEGIN:VEVENT
UID:94@chanakyauniversity.edu.in
DTSTART:20231222T183000Z
DTEND:20231222T183000Z
DTSTAMP:20250917T130515Z
URL:https://chanakyauniversity.edu.in/events/gita-jayanti/
SUMMARY:Gītā Jayanti
DESCRIPTION:December 23\, 2023\, Offline\n\nGītā Jayanti\, celebrated on
 December 23\, 2023\, at Chanakya University\, was a spiritually enriching
 event led by Dr. Vinayak Rajat Bhat\, Associate Professor at the Centre for
 Indian Knowledge Systems. The celebration commenced with the rhythmic
 chanting of\nChapter 12 The Bhagavad Gita\, Bhakti Yoga\, creating an
 atmosphere of divine energy and tranquility. Dr. Bhat skillfully guided the
 participants through the verses. Unravelling the profound wisdom
 encapsulated in the sacred scripture. Following the soul-stirring
 recitation\, an engaging discussion ensued\, providing attendees with a
 platform to delve deeper into the teachings of The Bhagavad Gita. Dr.
 Bhat's insights and scholarly interpretations ignited thoughtful
 reflections among the participants\, fostering a sense of unity and shared
 spiritual exploration. The event\, marked by intellectual discourse and
 spiritual harmony\, exemplified the timeless relevance of The Bhagavad
 Gita's teachings and left an indelible impression on all those present.
ATTACH;FMTTYPE=image/jpeg:https://chanakyauniversity.edu.in/wp-content/upl
 oads/2026/02/default-img.jpg
CATEGORIES:Indian Knowledge Systems
END:VEVENT
END:VCALENDAR