BEGIN:VCALENDAR
VERSION:2.0
PRODID:-//wp-events-plugin.com//7.2.3.1//EN
BEGIN:VEVENT
UID:150@chanakyauniversity.edu.in
DTSTART:20260425T040000Z
DTEND:20260425T060000Z
DTSTAMP:20260423T112209Z
URL:https://chanakyauniversity.edu.in/events/exploring-droplet-based-micro
 fluidics-for-advanced-bioanalytics/
SUMMARY:Exploring Droplet-Based Microfluidics for Advanced Bioanalytics
DESCRIPTION:This one-day workshop introduces participants to the
 fundamentals and practical applications of droplet-based microfluidics in
 bioanalytics. It focuses on how tiny droplets can be used to perform
 precise and scalable biological experiments. Attendees will gain hands-on
 experience in droplet formation\, microscope analysis\, and applications
 like drug encapsulation\, making it highly useful for students and
 researchers in biotechnology and life sciences.
ATTACH;FMTTYPE=image/jpeg:https://chanakyauniversity.edu.in/wp-content/upl
 oads/2026/04/One-Day-Workshop_abhishek.png
CATEGORIES:Bioscience
END:VEVENT
END:VCALENDAR