BEGIN:VCALENDAR
VERSION:2.0
PRODID:-//wp-events-plugin.com//7.2.3.1//EN
BEGIN:VEVENT
UID:138@chanakyauniversity.edu.in
DTSTART;VALUE=DATE:20260417
DTEND;VALUE=DATE:20260419
DTSTAMP:20260218T075641Z
URL:https://chanakyauniversity.edu.in/events/chanakya-moot-court-competiti
 on-2nd-edition/
SUMMARY:Chanakya Moot Court Competition - 2nd Edition
DESCRIPTION:[sdm_download id="16421" fancy="0"]
ATTACH;FMTTYPE=image/jpeg:https://chanakyauniversity.edu.in/wp-content/upl
 oads/2026/02/Poster-sm_2.jpg
CATEGORIES:CU events,Governance and Public Policy
END:VEVENT
END:VCALENDAR