BEGIN:VCALENDAR
VERSION:2.0
PRODID:-//wp-events-plugin.com//7.2.3.1//EN
BEGIN:VEVENT
UID:71@chanakyauniversity.edu.in
DTSTART;VALUE=DATE:20250524
DTEND;VALUE=DATE:20250526
DTSTAMP:20250522T134034Z
URL:https://chanakyauniversity.edu.in/events/chanakya-moot-court-competiti
 on-2025/
SUMMARY:Chanakya Moot Court Competition - 2025
DESCRIPTION:Chanakya Moot Court Society\n\nAt the School of Law\,
 Governance and Public Policy\, Chanakya University recognizes the value of
 advocacy skills\, legal knowledge\, and importance of practical experience
 in the field of law and has hence established the Chanakya Moot Court
 Society. The society is committed to fostering a culture of excellence\,
 professionalism\, and ethical conduct.\n\nThe Chanakya Moot Court Society
 provides a platform for law students to develop their advocacy skills\,
 engage in legal research\, and participate in moot court competitions. The
 Chanakya Moot Court Society (CMCS) at Chanakya University is a student-led
 body dedicated to fostering a culture of mooting excellence and ensuring
 the effective administration of all mooting related activities. CMCS plays
 a pivotal role in nurturing advocacy skills\, legal research\, and
 courtroom etiquette\, preparing students for the rigors of legal
 practice\n\nChanakya Moot Court Competition\n\nThe Chanakya Moot Court
 Competition will focus on constitutional law\, with a specific emphasis on
 the legal challenges surrounding the administration and governance of Waqf
 properties. The moot proposition raises critical questions on the
 constitutional validity of certain provisions of the Waqf Act\, 1995\,
 allegations of encroachments and commercial misuse of Waqf lands\, and the
 broader implications of religious endowment management in a secular legal
 framework.\n\nThe Competition will be witnessed at Chanakya University on
 24th and 25th of May 2025 and is expected to witness participation from
 premier law schools across the country\, providing students with an
 opportunity to hone their advocacy skills while engaging with pressing
 constitutional and public law issues.\n\nClick here to download the
 brochure.\n\nClick here to download clarifications.\n\nClick here for Early
 bird registration.\n\nClick here for early bird registration
 Payment.\n\n&nbsp\;
ATTACH;FMTTYPE=image/jpeg:https://chanakyauniversity.edu.in/wp-content/upl
 oads/2025/04/Moot-Court-Poster.jpg
CATEGORIES:CU events
END:VEVENT
END:VCALENDAR