BEGIN:VCALENDAR
VERSION:2.0
PRODID:-//wp-events-plugin.com//7.2.3.1//EN
BEGIN:VEVENT
UID:117@chanakyauniversity.edu.in
DTSTART;VALUE=DATE:20240809
DTEND;VALUE=DATE:20240810
DTSTAMP:20250821T014157Z
URL:https://chanakyauniversity.edu.in/events/building-sustainable-cities-a
 -social-ecological-systems-perspective/
SUMMARY:Building Sustainable Cities: A Social-Ecological Systems
 Perspective
DESCRIPTION:Speaker\n\nDr. Harini Nagendra\,\nAzim Premji University
ATTACH;FMTTYPE=image/jpeg:https://chanakyauniversity.edu.in/wp-content/upl
 oads/2026/02/default-img.jpg
CATEGORIES:Centre for Sustainability
END:VEVENT
END:VCALENDAR