BEGIN:VCALENDAR
VERSION:2.0
PRODID:-//wp-events-plugin.com//7.2.3.1//EN
BEGIN:VEVENT
UID:140@chanakyauniversity.edu.in
DTSTART:20260212T183000Z
DTEND:20260212T183000Z
DTSTAMP:20260220T100504Z
URL:https://chanakyauniversity.edu.in/events/advisory-committee-meeting/
SUMMARY:Advisory committee meeting
DESCRIPTION:The Advisory Committee meeting was held on February 13\, 2026\,
 at Chanakya University. The committee deliberated on potential focus areas
 for the initiative and provided strategic recommendations to strengthen the
 programme’s direction\, scope\, and implementation roadmap.\n[gallery
 link="file" columns="2" size="large" ids="16500\,16501\,16502\,16503"]
ATTACH;FMTTYPE=image/jpeg:https://chanakyauniversity.edu.in/wp-content/upl
 oads/2026/02/1-1.jpg
CATEGORIES:Centre for Sustainability
END:VEVENT
END:VCALENDAR