BEGIN:VCALENDAR
VERSION:2.0
PRODID:-//wp-events-plugin.com//7.2.3.1//EN
BEGIN:VEVENT
UID:108@chanakyauniversity.edu.in
DTSTART:20220914T100000Z
DTEND:20220914T110000Z
DTSTAMP:20250818T093607Z
URL:https://chanakyauniversity.edu.in/events/a-special-lecture-on-kautilya
 nomics/
SUMMARY:A Special Lecture on Kautilyanomics
DESCRIPTION:14th September 2022 (3:30pm-4:30pm) (Online)\n\nThe Centre for
 Indian Knowledge Systems\, Chanakya University organised an online lecture
 on Kautilyanomics by Shri Sriram Balasubramanian on 14th September 2022
 (3:30pm-4:30pm) over Microsoft Teams platform. Sriram Balasubramanian is a
 reputed Economist and Author whose key areas of interest include global
 macroeconomics\, economic trends in emerging markets\, new growth models\,
 Indic/Dharmic culture &amp\; an innate passion for India’s socio-economic
 happenings. He has authored three books ‘Jamba-The Joint Family’\,
 Shri. Sriram gave a brief introduction to his book titled
 “Kautilyanomics”. He explained the methodology using which he wrote the
 book and explained the process he used while writing the text. He explained
 the concept of Dharma Capitalism in Kautilya’s Arthashastra. The talk was
 attended 24 participants including the faculty members and the staff. It
 was followed by a question answer session.
ATTACH;FMTTYPE=image/jpeg:https://chanakyauniversity.edu.in/wp-content/upl
 oads/2026/02/default-img.jpg
CATEGORIES:Indian Knowledge Systems
END:VEVENT
END:VCALENDAR