BEGIN:VCALENDAR
VERSION:2.0
PRODID:-//wp-events-plugin.com//7.2.3.1//EN
BEGIN:VEVENT
UID:121@chanakyauniversity.edu.in
DTSTART;VALUE=DATE:20250725
DTEND;VALUE=DATE:20250730
DTSTAMP:20250911T135706Z
URL:https://chanakyauniversity.edu.in/events/7-day-online-workshop-on-kau%
 e1%b9%adilyas-blueprint-for-leadership-lessons-from-vinayadhikara%e1%b9%87
 a/
SUMMARY:7-Day Online Workshop on Kauṭilya’s Blueprint for Leadership:
 Lessons from Vinayādhikaraṇa
DESCRIPTION:The 7-day online workshop titled “Kauṭilya’s Blueprint
 for Leadership: Lessons from Vinayādhikaraṇa”\, organized by the
 School of Indian Knowledge Systems\, Chanakya University\, focused on
 leadership insights from Kauṭilya’s Arthaśāstra. Led by Dr. Vinayak
 Rajat Bhat\, the sessions explored themes like ethical leadership\,
 self-mastery\, and governance through classical frameworks such as the
 Saptāṅga model. Blending textual study with practical insights and
 traditional tales\, the workshop encouraged critical reflection and
 real-world application. Participants engaged through discussions\,
 quizzes\, and reflective tasks\, gaining a deeper understanding of
 leadership rooted in Indian knowledge systems and its continued relevance
 in modern governance and management.
ATTACH;FMTTYPE=image/jpeg:https://chanakyauniversity.edu.in/wp-content/upl
 oads/2026/02/default-img.jpg
CATEGORIES:Indian Knowledge Systems
END:VEVENT
END:VCALENDAR