BEGIN:VCALENDAR
VERSION:2.0
PRODID:-//wp-events-plugin.com//7.2.3.1//EN
BEGIN:VEVENT
UID:86@chanakyauniversity.edu.in
DTSTART;VALUE=DATE:20240611
DTEND;VALUE=DATE:20240615
DTSTAMP:20250917T130416Z
URL:https://chanakyauniversity.edu.in/events/4-day-discipline-specific-mas
 ters-training-program-on-arthashastra-and-nitishastra/
SUMMARY:4 Day Discipline Specific Masters Training Program on Arthaśāstra
 and Nītiśāstra
DESCRIPTION:June 11\, 2024\, to June 14\, 2024 (Offline)\n\n4 Day
 Discipline Specific Masters Training Program on Arthaśāstra and
 Nītiśāstra was a comprehensive exploration of ancient Indian wisdom on
 governance and statecraft. Participants were engaged through a blend of
 theoretical discussions\, practical case studies\, interactive group
 activities\, and field visits. The program effectively highlighted the
 relevance of ancient texts in contemporary governance\, providing
 participants with valuable insights and practical knowledge.
ATTACH;FMTTYPE=image/jpeg:https://chanakyauniversity.edu.in/wp-content/upl
 oads/2026/02/default-img.jpg
CATEGORIES:Indian Knowledge Systems
END:VEVENT
END:VCALENDAR